BEGIN:VCALENDAR
VERSION:2.0
PRODID:-//Fight Club Jiu Jitsu - ECPv6.15.10//NONSGML v1.0//EN
CALSCALE:GREGORIAN
METHOD:PUBLISH
X-WR-CALNAME:Fight Club Jiu Jitsu
X-ORIGINAL-URL:https://fightclubjiujitsu.com
X-WR-CALDESC:Events for Fight Club Jiu Jitsu
REFRESH-INTERVAL;VALUE=DURATION:PT1H
X-Robots-Tag:noindex
X-PUBLISHED-TTL:PT1H
BEGIN:VTIMEZONE
TZID:Australia/Brisbane
BEGIN:STANDARD
TZOFFSETFROM:+1000
TZOFFSETTO:+1000
TZNAME:AEST
DTSTART:20250101T000000
END:STANDARD
END:VTIMEZONE
BEGIN:VEVENT
DTSTART;TZID=Australia/Brisbane:20260426T090000
DTEND;TZID=Australia/Brisbane:20260426T170000
DTSTAMP:20260426T114408
CREATED:20250128T054508Z
LAST-MODIFIED:20260106T054038Z
UID:6303-1777194000-1777222800@fightclubjiujitsu.com
SUMMARY:Ipswich Open
DESCRIPTION:Ipswich Open – 2 Star event\nPut your skills to the test and compete\, or come and support your team mates!
URL:https://fightclubjiujitsu.com/event/ipswich-open/
LOCATION:Ipswich Basketball association\, 2A Ross Llewellyn dr\, Ipswich\, QLD\, Australia
CATEGORIES:Competitions
ATTACH;FMTTYPE=image/jpeg:https://fightclubjiujitsu.com/wp-content/uploads/2025/01/ipswich-Open-2026-1.jpg
ORGANIZER;CN="QBJJC":MAILTO:info@qbjjc.com.au
END:VEVENT
END:VCALENDAR