BEGIN:VCALENDAR
VERSION:2.0
PRODID:-//Fight Club Jiu Jitsu - ECPv6.15.10//NONSGML v1.0//EN
CALSCALE:GREGORIAN
METHOD:PUBLISH
X-WR-CALNAME:Fight Club Jiu Jitsu
X-ORIGINAL-URL:https://fightclubjiujitsu.com
X-WR-CALDESC:Events for Fight Club Jiu Jitsu
REFRESH-INTERVAL;VALUE=DURATION:PT1H
X-Robots-Tag:noindex
X-PUBLISHED-TTL:PT1H
BEGIN:VTIMEZONE
TZID:Australia/Brisbane
BEGIN:STANDARD
TZOFFSETFROM:+1000
TZOFFSETTO:+1000
TZNAME:AEST
DTSTART:20250101T000000
END:STANDARD
END:VTIMEZONE
BEGIN:VEVENT
DTSTART;VALUE=DATE:20260814
DTEND;VALUE=DATE:20260817
DTSTAMP:20260423T020322
CREATED:20250206T071517Z
LAST-MODIFIED:20260106T233610Z
UID:6369-1786665600-1786924799@fightclubjiujitsu.com
SUMMARY:Australian National Championship
DESCRIPTION:The biggest event in Australia!\nAustralian National title! – Melbourne Aquatic Center
URL:https://fightclubjiujitsu.com/event/australian-national-championship/
LOCATION:Melbourne Sports Aquatic Center\, 30 Aughtie Dr\, Melbourne\, Vic\, Australia
CATEGORIES:Competitions
ORGANIZER;CN="QBJJC":MAILTO:info@qbjjc.com.au
END:VEVENT
BEGIN:VEVENT
DTSTART;TZID=Australia/Brisbane:20260823T080000
DTEND;TZID=Australia/Brisbane:20260823T170000
DTSTAMP:20260423T020322
CREATED:20260106T233934Z
LAST-MODIFIED:20260106T233934Z
UID:6865-1787472000-1787504400@fightclubjiujitsu.com
SUMMARY:In-House competition - kids. Beenleigh location
DESCRIPTION:Fight Club kids friendly event to have fun and feel the competition experience \n\nCompetitions can feel intimidating\, especially for kids. That’s why we’ve designed an opportunity to ease them into the competition experience in a supportive\, low-pressure setting. Surrounded by familiar faces—friends\, coaches\, and a familiar environment—they’ll feel comfortable\, confident\, and ready to try something new. \nThis event is exclusive to Fight Club teams only\, across Brisbane\, Ashmore\, Beenleigh & Miami\nLocation: Beenleigh
URL:https://fightclubjiujitsu.com/event/in-house-competition-kids-beenleigh-location/
LOCATION:Beenleigh\, 97 Logan River Road\, Beenleigh\, Queensland\, 4207\, Australia
CATEGORIES:Competitions
ORGANIZER;CN="Fight Club Miami":MAILTO:information@fightclubjiujitsu.com
END:VEVENT
BEGIN:VEVENT
DTSTART;TZID=Australia/Brisbane:20260830T090000
DTEND;TZID=Australia/Brisbane:20260830T170000
DTSTAMP:20260423T020322
CREATED:20250206T075331Z
LAST-MODIFIED:20260106T234131Z
UID:6378-1788080400-1788109200@fightclubjiujitsu.com
SUMMARY:Sunshine Coast Open
DESCRIPTION:3 Star event on the Sunshine Coast!
URL:https://fightclubjiujitsu.com/event/sunshine-coast-open/
LOCATION:Caloundra Indoor Sports Stadium\, North Street\, Golden Beach\, Caloundra\, QLD\, Australia
CATEGORIES:Competitions
ATTACH;FMTTYPE=image/jpeg:https://fightclubjiujitsu.com/wp-content/uploads/2025/02/sunshine-coast-Open-2026-1.jpg
ORGANIZER;CN="QBJJC":MAILTO:info@qbjjc.com.au
END:VEVENT
BEGIN:VEVENT
DTSTART;TZID=Australia/Brisbane:20260913T090000
DTEND;TZID=Australia/Brisbane:20260913T170000
DTSTAMP:20260423T020322
CREATED:20250206T074108Z
LAST-MODIFIED:20260106T234319Z
UID:6375-1789290000-1789318800@fightclubjiujitsu.com
SUMMARY:Gold Coast Open
DESCRIPTION:Put your skills to the test with this 3 star event right here on the Gold Coast!\nNot competing? – Come and support your team mates!
URL:https://fightclubjiujitsu.com/event/gold-coast-open/
LOCATION:Runaway Bay Indoor Sports Stadium\, Sports Drive\, Runaway Bay\, Gold Coast\, QLD\, Australia
CATEGORIES:Competitions
ATTACH;FMTTYPE=image/jpeg:https://fightclubjiujitsu.com/wp-content/uploads/2025/02/gold-coast-Open-2026-1.jpg
ORGANIZER;CN="QBJJC":MAILTO:info@qbjjc.com.au
END:VEVENT
BEGIN:VEVENT
DTSTART;TZID=Australia/Brisbane:20261011T090000
DTEND;TZID=Australia/Brisbane:20261011T170000
DTSTAMP:20260423T020322
CREATED:20250206T080028Z
LAST-MODIFIED:20260106T234436Z
UID:6381-1791709200-1791738000@fightclubjiujitsu.com
SUMMARY:Brisbane Open
DESCRIPTION:Put your skills to the test at the Brisbane Open!
URL:https://fightclubjiujitsu.com/event/brisbane-open/
LOCATION:Iona College\, 85 North Road\, Brisbane\, Australia
CATEGORIES:Competitions
ATTACH;FMTTYPE=image/jpeg:https://fightclubjiujitsu.com/wp-content/uploads/2025/02/brisbane-Open-2026-1.jpg
ORGANIZER;CN="QBJJC":MAILTO:info@qbjjc.com.au
END:VEVENT
BEGIN:VEVENT
DTSTART;VALUE=DATE:20261025
DTEND;VALUE=DATE:20261027
DTSTAMP:20260423T020322
CREATED:20250213T005435Z
LAST-MODIFIED:20260106T234608Z
UID:6412-1792886400-1793059199@fightclubjiujitsu.com
SUMMARY:Pan Pacific Championship
DESCRIPTION:IBJJF – International competition held in Melbourne with people traveling from all over to compete
URL:https://fightclubjiujitsu.com/event/pan-pacific-championship/
LOCATION:Melbourne Sports Aquatic Center\, 30 Aughtie Dr\, Melbourne\, Vic\, Australia
CATEGORIES:Competitions
ORGANIZER;CN="QBJJC":MAILTO:info@qbjjc.com.au
END:VEVENT
BEGIN:VEVENT
DTSTART;TZID=Australia/Brisbane:20261101T090000
DTEND;TZID=Australia/Brisbane:20261101T170000
DTSTAMP:20260423T020322
CREATED:20250213T020812Z
LAST-MODIFIED:20260106T235437Z
UID:6427-1793523600-1793552400@fightclubjiujitsu.com
SUMMARY:East Coast Championship
DESCRIPTION:Put your skills to the test at the East Coast Championship\nSunshine Coast!
URL:https://fightclubjiujitsu.com/event/east-coast-championship/
LOCATION:Caloundra Indoor Sports Stadium\, North Street\, Golden Beach\, Caloundra\, QLD\, Australia
CATEGORIES:Competitions
ATTACH;FMTTYPE=image/jpeg:https://fightclubjiujitsu.com/wp-content/uploads/2025/02/east-coast-Championship-2026-1.jpg
ORGANIZER;CN="QBJJC":MAILTO:info@qbjjc.com.au
END:VEVENT
BEGIN:VEVENT
DTSTART;TZID=Australia/Brisbane:20261122T090000
DTEND;TZID=Australia/Brisbane:20261122T170000
DTSTAMP:20260423T020322
CREATED:20250213T021835Z
LAST-MODIFIED:20260106T235737Z
UID:6433-1795338000-1795366800@fightclubjiujitsu.com
SUMMARY:Gold Coast Championship
DESCRIPTION:Finish the year off with a bang!\nLast competition of the year right here on the Gold Coast!
URL:https://fightclubjiujitsu.com/event/gold-coast-championship/
LOCATION:Runaway Bay Indoor Sports Stadium\, Sports Drive\, Runaway Bay\, Gold Coast\, QLD\, Australia
CATEGORIES:Competitions
ATTACH;FMTTYPE=image/jpeg:https://fightclubjiujitsu.com/wp-content/uploads/2025/02/gold-coast-Championship-2026-1.jpg
ORGANIZER;CN="QBJJC":MAILTO:info@qbjjc.com.au
END:VEVENT
END:VCALENDAR