BEGIN:VCALENDAR
VERSION:2.0
PRODID:-//Fight Club Jiu Jitsu - ECPv6.15.10//NONSGML v1.0//EN
CALSCALE:GREGORIAN
METHOD:PUBLISH
X-WR-CALNAME:Fight Club Jiu Jitsu
X-ORIGINAL-URL:https://fightclubjiujitsu.com
X-WR-CALDESC:Events for Fight Club Jiu Jitsu
REFRESH-INTERVAL;VALUE=DURATION:PT1H
X-Robots-Tag:noindex
X-PUBLISHED-TTL:PT1H
BEGIN:VTIMEZONE
TZID:Australia/Brisbane
BEGIN:STANDARD
TZOFFSETFROM:+1000
TZOFFSETTO:+1000
TZNAME:AEST
DTSTART:20240101T000000
END:STANDARD
END:VTIMEZONE
BEGIN:VEVENT
DTSTART;TZID=Australia/Brisbane:20250215T000000
DTEND;TZID=Australia/Brisbane:20250215T235900
DTSTAMP:20260423T085342
CREATED:20250122T053154Z
LAST-MODIFIED:20250122T053427Z
UID:6261-1739577600-1739663940@fightclubjiujitsu.com
SUMMARY:Townsville Open
DESCRIPTION:Test your skills at the Townsville Open.
URL:https://fightclubjiujitsu.com/event/townsville-open/
LOCATION:Townsville Sports Precinct\, Burke Street\, North Ward\, QLD\, Australia
CATEGORIES:Competitions
ATTACH;FMTTYPE=image/jpeg:https://fightclubjiujitsu.com/wp-content/uploads/2025/01/Townsville-Open-2025-1.jpg
ORGANIZER;CN="QBJJC":MAILTO:info@qbjjc.com.au
END:VEVENT
END:VCALENDAR