BEGIN:VCALENDAR
VERSION:2.0
PRODID:-//Fight Club Jiu Jitsu - ECPv6.15.10//NONSGML v1.0//EN
CALSCALE:GREGORIAN
METHOD:PUBLISH
X-ORIGINAL-URL:https://fightclubjiujitsu.com
X-WR-CALDESC:Events for Fight Club Jiu Jitsu
REFRESH-INTERVAL;VALUE=DURATION:PT1H
X-Robots-Tag:noindex
X-PUBLISHED-TTL:PT1H
BEGIN:VTIMEZONE
TZID:Australia/Brisbane
BEGIN:STANDARD
TZOFFSETFROM:+1000
TZOFFSETTO:+1000
TZNAME:AEST
DTSTART:20240101T000000
END:STANDARD
END:VTIMEZONE
BEGIN:VEVENT
DTSTART;TZID=Australia/Brisbane:20250215T000000
DTEND;TZID=Australia/Brisbane:20250215T235900
DTSTAMP:20260423T085833
CREATED:20250122T053154Z
LAST-MODIFIED:20250122T053427Z
UID:6261-1739577600-1739663940@fightclubjiujitsu.com
SUMMARY:Townsville Open
DESCRIPTION:Test your skills at the Townsville Open.
URL:https://fightclubjiujitsu.com/event/townsville-open/
LOCATION:Townsville Sports Precinct\, Burke Street\, North Ward\, QLD\, Australia
CATEGORIES:Competitions
ATTACH;FMTTYPE=image/jpeg:https://fightclubjiujitsu.com/wp-content/uploads/2025/01/Townsville-Open-2025-1.jpg
ORGANIZER;CN="QBJJC":MAILTO:info@qbjjc.com.au
END:VEVENT
BEGIN:VEVENT
DTSTART;TZID=Australia/Brisbane:20250524T090000
DTEND;TZID=Australia/Brisbane:20250524T170000
DTSTAMP:20260423T085833
CREATED:20250204T064526Z
LAST-MODIFIED:20250204T064604Z
UID:6355-1748077200-1748106000@fightclubjiujitsu.com
SUMMARY:Central QLD Championship
DESCRIPTION:North QLD Mackay competition
URL:https://fightclubjiujitsu.com/event/central-qld-championship/
LOCATION:Mackay Judo Club\, 6 Swayne Street\, Mackay\, QLD\, Australia
CATEGORIES:Competitions
ATTACH;FMTTYPE=image/jpeg:https://fightclubjiujitsu.com/wp-content/uploads/2025/02/Central-Qld-Championship-2025-1-scaled.jpg
ORGANIZER;CN="QBJJC":MAILTO:info@qbjjc.com.au
END:VEVENT
BEGIN:VEVENT
DTSTART;TZID=Australia/Brisbane:20250809T090000
DTEND;TZID=Australia/Brisbane:20250809T170000
DTSTAMP:20260423T085833
CREATED:20250204T073633Z
LAST-MODIFIED:20250204T083144Z
UID:6363-1754730000-1754758800@fightclubjiujitsu.com
SUMMARY:North QLD Championship
DESCRIPTION:Far North QLD – Townsville
URL:https://fightclubjiujitsu.com/event/north-qld-championship/
LOCATION:Townsville Sports Precinct\, Burke Street\, North Ward\, QLD\, Australia
CATEGORIES:Competitions
ATTACH;FMTTYPE=image/jpeg:https://fightclubjiujitsu.com/wp-content/uploads/2025/02/North-Qld-Championship-2025-1.jpg
ORGANIZER;CN="QBJJC":MAILTO:info@qbjjc.com.au
END:VEVENT
BEGIN:VEVENT
DTSTART;TZID=Australia/Brisbane:20251018T090000
DTEND;TZID=Australia/Brisbane:20251018T170000
DTSTAMP:20260423T085833
CREATED:20250212T084352Z
LAST-MODIFIED:20250212T084940Z
UID:6408-1760778000-1760806800@fightclubjiujitsu.com
SUMMARY:Townsville Championship
DESCRIPTION:Townsville – North QLD
URL:https://fightclubjiujitsu.com/event/townsville-championship/
LOCATION:Townsville Sports Precinct\, Burke Street\, North Ward\, QLD\, Australia
CATEGORIES:Competitions
ATTACH;FMTTYPE=image/jpeg:https://fightclubjiujitsu.com/wp-content/uploads/2025/02/Townsville-Championship-2025-1.jpg
ORGANIZER;CN="QBJJC":MAILTO:info@qbjjc.com.au
END:VEVENT
BEGIN:VEVENT
DTSTART;TZID=Australia/Brisbane:20260201T090000
DTEND;TZID=Australia/Brisbane:20260201T170000
DTSTAMP:20260423T085833
CREATED:20250128T032045Z
LAST-MODIFIED:20260106T052510Z
UID:6286-1769936400-1769965200@fightclubjiujitsu.com
SUMMARY:Brisbane Championship
DESCRIPTION:Brisbane Championship – 3 Star event\nPut your skills to the test and compete\, or come and support your team mates!
URL:https://fightclubjiujitsu.com/event/brisbane-championship-2/
LOCATION:Nissan Arena\, 590 Mains Road\, Nathan\, Qld\, 4111\, Australia
CATEGORIES:Competitions
ATTACH;FMTTYPE=image/jpeg:https://fightclubjiujitsu.com/wp-content/uploads/2025/01/Brisbane-Championship-2026-1.jpg
ORGANIZER;CN="QBJJC":MAILTO:info@qbjjc.com.au
END:VEVENT
BEGIN:VEVENT
DTSTART;TZID=Australia/Brisbane:20260301T090000
DTEND;TZID=Australia/Brisbane:20260301T170000
DTSTAMP:20260423T085833
CREATED:20250128T033029Z
LAST-MODIFIED:20260106T052718Z
UID:6290-1772355600-1772384400@fightclubjiujitsu.com
SUMMARY:South East QLD Championship
DESCRIPTION:South East QLD Championship – 3 Star event\nPut your skills to the test and compete right here on the Gold Coast\, or come and support your team mates!
URL:https://fightclubjiujitsu.com/event/south-east-qld-championship/
LOCATION:Runaway Bay Indoor Sports Stadium\, Sports Drive\, Runaway Bay\, Gold Coast\, QLD\, Australia
CATEGORIES:Competitions
ATTACH;FMTTYPE=image/jpeg:https://fightclubjiujitsu.com/wp-content/uploads/2025/01/south-east-qld-Championship-2026-1.jpg
ORGANIZER;CN="QBJJC":MAILTO:info@qbjjc.com.au
END:VEVENT
BEGIN:VEVENT
DTSTART;TZID=Australia/Brisbane:20260307T080000
DTEND;TZID=Australia/Brisbane:20260307T170000
DTSTAMP:20260423T085833
CREATED:20250115T011503Z
LAST-MODIFIED:20260106T052917Z
UID:6071-1772870400-1772902800@fightclubjiujitsu.com
SUMMARY:Adult Gradings
DESCRIPTION:All belt level gradings\nTimes will be released closer to grading date
URL:https://fightclubjiujitsu.com/event/adult-gradings-miami/
LOCATION:Miami HQ\, Unit 2\, 56 Paradise Avenue\, Miami\, QLD\, 4220\, Australia
CATEGORIES:Gradings
ATTACH;FMTTYPE=image/jpeg:https://fightclubjiujitsu.com/wp-content/uploads/2023/06/DSC_0107.jpg
ORGANIZER;CN="Fight Club Miami":MAILTO:information@fightclubjiujitsu.com
END:VEVENT
BEGIN:VEVENT
DTSTART;TZID=Australia/Brisbane:20260308T080000
DTEND;TZID=Australia/Brisbane:20260308T170000
DTSTAMP:20260423T085833
CREATED:20260106T053224Z
LAST-MODIFIED:20260106T053224Z
UID:6848-1772956800-1772989200@fightclubjiujitsu.com
SUMMARY:Kids in-house competition
DESCRIPTION:Fight Club in-house competition. \nCompetitions can feel intimidating\, especially for kids. That’s why we’ve designed an opportunity to ease them into the competition experience in a supportive\, low-pressure setting. Surrounded by familiar faces—friends\, coaches\, and a familiar environment—they’ll feel comfortable\, confident\, and ready to try something new. \nThis event is exclusive to Fight Club teams only\, across Brisbane\, Ashmore\, Beenleigh & Miami
URL:https://fightclubjiujitsu.com/event/kids-in-house-competition/
CATEGORIES:Competitions
END:VEVENT
BEGIN:VEVENT
DTSTART;TZID=Australia/Brisbane:20260322T090000
DTEND;TZID=Australia/Brisbane:20260322T170000
DTSTAMP:20260423T085833
CREATED:20250128T033805Z
LAST-MODIFIED:20260106T053815Z
UID:6294-1774170000-1774198800@fightclubjiujitsu.com
SUMMARY:Caloundra Open
DESCRIPTION:Caloundra Open – 4 Star event\nIf your looking for ranking points this year\, then this is one comp you don’t want to miss with a 4 stars!\nPut your skills to the test and compete\, or come and support your team mates!
URL:https://fightclubjiujitsu.com/event/caloundra-open/
LOCATION:Caloundra Indoor Sports Stadium\, North Street\, Golden Beach\, Caloundra\, QLD\, Australia
CATEGORIES:Competitions
ATTACH;FMTTYPE=image/jpeg:https://fightclubjiujitsu.com/wp-content/uploads/2025/01/Caloundra-Open-2026-1.jpg
END:VEVENT
BEGIN:VEVENT
DTSTART;TZID=Australia/Brisbane:20260327T153000
DTEND;TZID=Australia/Brisbane:20260327T163000
DTSTAMP:20260423T085833
CREATED:20250128T052139Z
LAST-MODIFIED:20260106T053915Z
UID:6299-1774625400-1774629000@fightclubjiujitsu.com
SUMMARY:Kids 5+ Grading
DESCRIPTION:Our little kids 5+ beginners and advanced gradings.\nHeld in place of classes on Friday afternoon \n5+ Beginners – 3:30pm\n5+ Advance – 4:00pm
URL:https://fightclubjiujitsu.com/event/kids-5-grading/
LOCATION:Miami HQ\, Unit 2\, 56 Paradise Avenue\, Miami\, QLD\, 4220\, Australia
CATEGORIES:Gradings
ATTACH;FMTTYPE=image/jpeg:https://fightclubjiujitsu.com/wp-content/uploads/2025/01/DSC_9513.jpg
ORGANIZER;CN="Fight Club Miami":MAILTO:information@fightclubjiujitsu.com
END:VEVENT
BEGIN:VEVENT
DTSTART;TZID=Australia/Brisbane:20260426T090000
DTEND;TZID=Australia/Brisbane:20260426T170000
DTSTAMP:20260423T085833
CREATED:20250128T054508Z
LAST-MODIFIED:20260106T054038Z
UID:6303-1777194000-1777222800@fightclubjiujitsu.com
SUMMARY:Ipswich Open
DESCRIPTION:Ipswich Open – 2 Star event\nPut your skills to the test and compete\, or come and support your team mates!
URL:https://fightclubjiujitsu.com/event/ipswich-open/
LOCATION:Ipswich Basketball association\, 2A Ross Llewellyn dr\, Ipswich\, QLD\, Australia
CATEGORIES:Competitions
ATTACH;FMTTYPE=image/jpeg:https://fightclubjiujitsu.com/wp-content/uploads/2025/01/ipswich-Open-2026-1.jpg
ORGANIZER;CN="QBJJC":MAILTO:info@qbjjc.com.au
END:VEVENT
BEGIN:VEVENT
DTSTART;TZID=Australia/Brisbane:20260515T180000
DTEND;TZID=Australia/Brisbane:20260515T180000
DTSTAMP:20260423T085833
CREATED:20250128T055051Z
LAST-MODIFIED:20260106T054126Z
UID:6307-1778868000-1778868000@fightclubjiujitsu.com
SUMMARY:Adult White Belt Grading
DESCRIPTION:Adult White Belts Friday night 6pm
URL:https://fightclubjiujitsu.com/event/adult-white-belt-grading/
LOCATION:Miami HQ\, Unit 2\, 56 Paradise Avenue\, Miami\, QLD\, 4220\, Australia
CATEGORIES:Gradings
ATTACH;FMTTYPE=image/jpeg:https://fightclubjiujitsu.com/wp-content/uploads/2025/01/DSC_9462.jpg
ORGANIZER;CN="Fight Club Miami":MAILTO:information@fightclubjiujitsu.com
END:VEVENT
BEGIN:VEVENT
DTSTART;TZID=Australia/Brisbane:20260516T070000
DTEND;TZID=Australia/Brisbane:20260516T103000
DTSTAMP:20260423T085833
CREATED:20250128T063017Z
LAST-MODIFIED:20260106T054242Z
UID:6310-1778914800-1778927400@fightclubjiujitsu.com
SUMMARY:Adults Gradings
DESCRIPTION:Coloured belts gradings\nTimes released closer to grading date
URL:https://fightclubjiujitsu.com/event/adults-gradings/
LOCATION:Miami HQ\, Unit 2\, 56 Paradise Avenue\, Miami\, QLD\, 4220\, Australia
CATEGORIES:Gradings
ORGANIZER;CN="Fight Club Miami":MAILTO:information@fightclubjiujitsu.com
END:VEVENT
BEGIN:VEVENT
DTSTART;TZID=Australia/Brisbane:20260517T090000
DTEND;TZID=Australia/Brisbane:20260517T170000
DTSTAMP:20260423T085833
CREATED:20250128T065017Z
LAST-MODIFIED:20260106T054422Z
UID:6316-1779008400-1779037200@fightclubjiujitsu.com
SUMMARY:Moreton Bay Championship
DESCRIPTION:Moreton Bay Championship – 3 Star event\nPut your skills to the test and compete\, or come and support your team mates!
URL:https://fightclubjiujitsu.com/event/moreton-bay-championship/
LOCATION:Morayfield Sports Center\, 298 Morayfield Road\, Moreton Bay\, QLD\, Australia
CATEGORIES:Competitions
ATTACH;FMTTYPE=image/jpeg:https://fightclubjiujitsu.com/wp-content/uploads/2025/01/moreton-Championship-2026-1.jpg
ORGANIZER;CN="QBJJC":MAILTO:info@qbjjc.com.au
END:VEVENT
BEGIN:VEVENT
DTSTART;TZID=Australia/Brisbane:20260529T103000
DTEND;TZID=Australia/Brisbane:20260529T130000
DTSTAMP:20260423T085833
CREATED:20250128T064816Z
LAST-MODIFIED:20260106T054730Z
UID:6313-1780050600-1780059600@fightclubjiujitsu.com
SUMMARY:Kids Grading - 9+\, 12+
DESCRIPTION:Kids gradings Friday afternoon in replace of kids classes\nTimes:\nWhite Belts 4:30\n9+ Class 5:00pm\n12+ Class 5:45pm
URL:https://fightclubjiujitsu.com/event/kids-grading-9-12/
LOCATION:Miami HQ\, Unit 2\, 56 Paradise Avenue\, Miami\, QLD\, 4220\, Australia
CATEGORIES:Gradings
ORGANIZER;CN="Fight Club Miami":MAILTO:information@fightclubjiujitsu.com
END:VEVENT
BEGIN:VEVENT
DTSTART;TZID=Australia/Brisbane:20260607T090000
DTEND;TZID=Australia/Brisbane:20260607T170000
DTSTAMP:20260423T085833
CREATED:20250204T063033Z
LAST-MODIFIED:20260106T055044Z
UID:6342-1780822800-1780851600@fightclubjiujitsu.com
SUMMARY:Sunshine Coast Championship
DESCRIPTION:3 Star event on the Sunshine Coast!
URL:https://fightclubjiujitsu.com/event/sunshine-coast-championship/
LOCATION:Clippers Basketball Stadium\, 22 Elizabeth Daniels Way\, Buderim\, Sunshine Coast\, QLD\, 4556\, Australia
CATEGORIES:Competitions
ATTACH;FMTTYPE=image/jpeg:https://fightclubjiujitsu.com/wp-content/uploads/2025/02/Screenshot-2026-01-06-at-3.50.02-pm.jpg
ORGANIZER;CN="QBJJC":MAILTO:info@qbjjc.com.au
END:VEVENT
BEGIN:VEVENT
DTSTART;TZID=Australia/Brisbane:20260621T080000
DTEND;TZID=Australia/Brisbane:20260621T170000
DTSTAMP:20260423T085833
CREATED:20260106T232425Z
LAST-MODIFIED:20260106T232501Z
UID:6858-1782028800-1782061200@fightclubjiujitsu.com
SUMMARY:Fight Club in-house competition. Kids & Adults
DESCRIPTION:This will be our first event for our Adults to be a part of our in-house competition!\nCompetitions can feel intimidating. That’s why we’ve designed an opportunity to ease into the competition experience in a supportive\, low-pressure setting. Surrounded by familiar faces—friends\, coaches\, and a familiar environment \nThis event is exclusive to Fight Club teams only\, across Brisbane\, Ashmore\, Beenleigh & Miami\nGain some experience and be a part of the fun!
URL:https://fightclubjiujitsu.com/event/fight-club-in-house-competition-kids-adults/
LOCATION:Miami HQ\, Unit 2\, 56 Paradise Avenue\, Miami\, QLD\, 4220\, Australia
CATEGORIES:Competitions
ORGANIZER;CN="Fight Club Miami":MAILTO:information@fightclubjiujitsu.com
END:VEVENT
BEGIN:VEVENT
DTSTART;TZID=Australia/Brisbane:20260628T090000
DTEND;TZID=Australia/Brisbane:20260628T170000
DTSTAMP:20260423T085833
CREATED:20250204T063949Z
LAST-MODIFIED:20260106T232658Z
UID:6352-1782637200-1782666000@fightclubjiujitsu.com
SUMMARY:South Pacific Championship
DESCRIPTION:3 Star event in Brisbane!\nPut your skills to the test!
URL:https://fightclubjiujitsu.com/event/south-pacific-championship/
LOCATION:Nissan Arena\, 590 Mains Road\, Nathan\, Qld\, 4111\, Australia
CATEGORIES:Competitions
ATTACH;FMTTYPE=image/jpeg:https://fightclubjiujitsu.com/wp-content/uploads/2025/02/south-pacific-Championship-2026-1.jpg
ORGANIZER;CN="QBJJC":MAILTO:info@qbjjc.com.au
END:VEVENT
BEGIN:VEVENT
DTSTART;VALUE=DATE:20260725
DTEND;VALUE=DATE:20260727
DTSTAMP:20260423T085833
CREATED:20250204T063713Z
LAST-MODIFIED:20260106T233142Z
UID:6346-1784937600-1785110399@fightclubjiujitsu.com
SUMMARY:QLD State Championship
DESCRIPTION:Queenslands Biggest event of the year!\nThis is one competition you don’t want to miss! – Will you be the 2025 State Champion?
URL:https://fightclubjiujitsu.com/event/qld-state-championship/
LOCATION:Gold Coast Sports and Leisure centre\, 296 Nerang Broad Beach Road\, Gold Coast\, QLD\, Australia
CATEGORIES:Competitions
ATTACH;FMTTYPE=image/jpeg:https://fightclubjiujitsu.com/wp-content/uploads/2025/02/Screenshot-2026-01-07-at-9.31.05-am.jpg
ORGANIZER;CN="QBJJC":MAILTO:info@qbjjc.com.au
END:VEVENT
BEGIN:VEVENT
DTSTART;TZID=Australia/Brisbane:20260807T153000
DTEND;TZID=Australia/Brisbane:20260807T163000
DTSTAMP:20260423T085833
CREATED:20250204T070017Z
LAST-MODIFIED:20260106T233447Z
UID:6360-1786116600-1786120200@fightclubjiujitsu.com
SUMMARY:Kids 5+ Grading
DESCRIPTION:Our little kids Beginners and Advanced gradings.\nFriday afternoon in replace of class\nBeginners 3:30pm\nAdvanced 4:00pm
URL:https://fightclubjiujitsu.com/event/kids-5-grading-2/
LOCATION:Miami HQ\, Unit 2\, 56 Paradise Avenue\, Miami\, QLD\, 4220\, Australia
CATEGORIES:Gradings
ATTACH;FMTTYPE=image/jpeg:https://fightclubjiujitsu.com/wp-content/uploads/2025/02/DSC_9562.jpg
ORGANIZER;CN="Fight Club Miami":MAILTO:information@fightclubjiujitsu.com
END:VEVENT
BEGIN:VEVENT
DTSTART;VALUE=DATE:20260814
DTEND;VALUE=DATE:20260817
DTSTAMP:20260423T085833
CREATED:20250206T071517Z
LAST-MODIFIED:20260106T233610Z
UID:6369-1786665600-1786924799@fightclubjiujitsu.com
SUMMARY:Australian National Championship
DESCRIPTION:The biggest event in Australia!\nAustralian National title! – Melbourne Aquatic Center
URL:https://fightclubjiujitsu.com/event/australian-national-championship/
LOCATION:Melbourne Sports Aquatic Center\, 30 Aughtie Dr\, Melbourne\, Vic\, Australia
CATEGORIES:Competitions
ORGANIZER;CN="QBJJC":MAILTO:info@qbjjc.com.au
END:VEVENT
BEGIN:VEVENT
DTSTART;TZID=Australia/Brisbane:20260822T070000
DTEND;TZID=Australia/Brisbane:20260822T120000
DTSTAMP:20260423T085833
CREATED:20250206T071738Z
LAST-MODIFIED:20260106T233700Z
UID:6372-1787382000-1787400000@fightclubjiujitsu.com
SUMMARY:Adults Grading
DESCRIPTION:Adults gradings all belt levels
URL:https://fightclubjiujitsu.com/event/adults-grading/
LOCATION:Miami HQ\, Unit 2\, 56 Paradise Avenue\, Miami\, QLD\, 4220\, Australia
CATEGORIES:Gradings
ATTACH;FMTTYPE=image/jpeg:https://fightclubjiujitsu.com/wp-content/uploads/2025/02/DSC_0108.jpg
ORGANIZER;CN="Fight Club Miami":MAILTO:information@fightclubjiujitsu.com
END:VEVENT
BEGIN:VEVENT
DTSTART;TZID=Australia/Brisbane:20260823T080000
DTEND;TZID=Australia/Brisbane:20260823T170000
DTSTAMP:20260423T085833
CREATED:20260106T233934Z
LAST-MODIFIED:20260106T233934Z
UID:6865-1787472000-1787504400@fightclubjiujitsu.com
SUMMARY:In-House competition - kids. Beenleigh location
DESCRIPTION:Fight Club kids friendly event to have fun and feel the competition experience \n\nCompetitions can feel intimidating\, especially for kids. That’s why we’ve designed an opportunity to ease them into the competition experience in a supportive\, low-pressure setting. Surrounded by familiar faces—friends\, coaches\, and a familiar environment—they’ll feel comfortable\, confident\, and ready to try something new. \nThis event is exclusive to Fight Club teams only\, across Brisbane\, Ashmore\, Beenleigh & Miami\nLocation: Beenleigh
URL:https://fightclubjiujitsu.com/event/in-house-competition-kids-beenleigh-location/
LOCATION:Beenleigh\, 97 Logan River Road\, Beenleigh\, Queensland\, 4207\, Australia
CATEGORIES:Competitions
ORGANIZER;CN="Fight Club Miami":MAILTO:information@fightclubjiujitsu.com
END:VEVENT
BEGIN:VEVENT
DTSTART;TZID=Australia/Brisbane:20260830T090000
DTEND;TZID=Australia/Brisbane:20260830T170000
DTSTAMP:20260423T085833
CREATED:20250206T075331Z
LAST-MODIFIED:20260106T234131Z
UID:6378-1788080400-1788109200@fightclubjiujitsu.com
SUMMARY:Sunshine Coast Open
DESCRIPTION:3 Star event on the Sunshine Coast!
URL:https://fightclubjiujitsu.com/event/sunshine-coast-open/
LOCATION:Caloundra Indoor Sports Stadium\, North Street\, Golden Beach\, Caloundra\, QLD\, Australia
CATEGORIES:Competitions
ATTACH;FMTTYPE=image/jpeg:https://fightclubjiujitsu.com/wp-content/uploads/2025/02/sunshine-coast-Open-2026-1.jpg
ORGANIZER;CN="QBJJC":MAILTO:info@qbjjc.com.au
END:VEVENT
BEGIN:VEVENT
DTSTART;TZID=Australia/Brisbane:20260913T090000
DTEND;TZID=Australia/Brisbane:20260913T170000
DTSTAMP:20260423T085833
CREATED:20250206T074108Z
LAST-MODIFIED:20260106T234319Z
UID:6375-1789290000-1789318800@fightclubjiujitsu.com
SUMMARY:Gold Coast Open
DESCRIPTION:Put your skills to the test with this 3 star event right here on the Gold Coast!\nNot competing? – Come and support your team mates!
URL:https://fightclubjiujitsu.com/event/gold-coast-open/
LOCATION:Runaway Bay Indoor Sports Stadium\, Sports Drive\, Runaway Bay\, Gold Coast\, QLD\, Australia
CATEGORIES:Competitions
ATTACH;FMTTYPE=image/jpeg:https://fightclubjiujitsu.com/wp-content/uploads/2025/02/gold-coast-Open-2026-1.jpg
ORGANIZER;CN="QBJJC":MAILTO:info@qbjjc.com.au
END:VEVENT
BEGIN:VEVENT
DTSTART;TZID=Australia/Brisbane:20261011T090000
DTEND;TZID=Australia/Brisbane:20261011T170000
DTSTAMP:20260423T085833
CREATED:20250206T080028Z
LAST-MODIFIED:20260106T234436Z
UID:6381-1791709200-1791738000@fightclubjiujitsu.com
SUMMARY:Brisbane Open
DESCRIPTION:Put your skills to the test at the Brisbane Open!
URL:https://fightclubjiujitsu.com/event/brisbane-open/
LOCATION:Iona College\, 85 North Road\, Brisbane\, Australia
CATEGORIES:Competitions
ATTACH;FMTTYPE=image/jpeg:https://fightclubjiujitsu.com/wp-content/uploads/2025/02/brisbane-Open-2026-1.jpg
ORGANIZER;CN="QBJJC":MAILTO:info@qbjjc.com.au
END:VEVENT
BEGIN:VEVENT
DTSTART;TZID=Australia/Brisbane:20261023T153000
DTEND;TZID=Australia/Brisbane:20261023T170000
DTSTAMP:20260423T085833
CREATED:20250213T005628Z
LAST-MODIFIED:20260106T234532Z
UID:6414-1792769400-1792774800@fightclubjiujitsu.com
SUMMARY:Kids 5+ Gradings
DESCRIPTION:Friday afternoon in replacement of classes\n5+ Beginners 3:30-4:00pm\n5+ Advanced 4:00pm-4:30pm
URL:https://fightclubjiujitsu.com/event/kids-5-gradings/
LOCATION:Miami HQ\, Unit 2\, 56 Paradise Avenue\, Miami\, QLD\, 4220\, Australia
CATEGORIES:Gradings
ATTACH;FMTTYPE=image/jpeg:https://fightclubjiujitsu.com/wp-content/uploads/2025/02/DSC_9505-scaled.jpg
ORGANIZER;CN="Fight Club Miami":MAILTO:information@fightclubjiujitsu.com
END:VEVENT
BEGIN:VEVENT
DTSTART;VALUE=DATE:20261025
DTEND;VALUE=DATE:20261027
DTSTAMP:20260423T085833
CREATED:20250213T005435Z
LAST-MODIFIED:20260106T234608Z
UID:6412-1792886400-1793059199@fightclubjiujitsu.com
SUMMARY:Pan Pacific Championship
DESCRIPTION:IBJJF – International competition held in Melbourne with people traveling from all over to compete
URL:https://fightclubjiujitsu.com/event/pan-pacific-championship/
LOCATION:Melbourne Sports Aquatic Center\, 30 Aughtie Dr\, Melbourne\, Vic\, Australia
CATEGORIES:Competitions
ORGANIZER;CN="QBJJC":MAILTO:info@qbjjc.com.au
END:VEVENT
BEGIN:VEVENT
DTSTART;TZID=Australia/Brisbane:20261030T163000
DTEND;TZID=Australia/Brisbane:20261030T183000
DTSTAMP:20260423T085833
CREATED:20250213T013650Z
LAST-MODIFIED:20260106T234839Z
UID:6424-1793377800-1793385000@fightclubjiujitsu.com
SUMMARY:Kids 9+ & 12+ Gradings
DESCRIPTION:Kids 9+ & 12+ Gradings in replacement of kids classes\nWhite Belts – 4:30pm\n9+ class – 5:00pm\n12+ Class – 5:45pm \n 
URL:https://fightclubjiujitsu.com/event/kids-9-12-gradings/
LOCATION:Miami HQ\, Unit 2\, 56 Paradise Avenue\, Miami\, QLD\, 4220\, Australia
CATEGORIES:Gradings
ATTACH;FMTTYPE=image/jpeg:https://fightclubjiujitsu.com/wp-content/uploads/2025/02/DSC_0030-scaled.jpg
ORGANIZER;CN="Fight Club Miami":MAILTO:information@fightclubjiujitsu.com
END:VEVENT
BEGIN:VEVENT
DTSTART;TZID=Australia/Brisbane:20261031T070000
DTEND;TZID=Australia/Brisbane:20261031T130000
DTSTAMP:20260423T085833
CREATED:20250213T012511Z
LAST-MODIFIED:20260106T234928Z
UID:6421-1793430000-1793451600@fightclubjiujitsu.com
SUMMARY:Adults Gradings
DESCRIPTION:Adults gradings\nAll belt levels
URL:https://fightclubjiujitsu.com/event/adults-gradings-2/
LOCATION:Miami HQ\, Unit 2\, 56 Paradise Avenue\, Miami\, QLD\, 4220\, Australia
CATEGORIES:Gradings
ATTACH;FMTTYPE=image/jpeg:https://fightclubjiujitsu.com/wp-content/uploads/2025/02/DSC_0086.jpg
ORGANIZER;CN="Fight Club Miami":MAILTO:information@fightclubjiujitsu.com
END:VEVENT
END:VCALENDAR